BEGIN:VCALENDAR
VERSION:2.0
PRODID:-//TuS Bar Kochba Nürnberg e.V. - ECPv6.15.20//NONSGML v1.0//EN
CALSCALE:GREGORIAN
METHOD:PUBLISH
X-ORIGINAL-URL:https://tusbarkochba.de
X-WR-CALDESC:Veranstaltungen für TuS Bar Kochba Nürnberg e.V.
REFRESH-INTERVAL;VALUE=DURATION:PT1H
X-Robots-Tag:noindex
X-PUBLISHED-TTL:PT1H
BEGIN:VTIMEZONE
TZID:Europe/Berlin
BEGIN:DAYLIGHT
TZOFFSETFROM:+0100
TZOFFSETTO:+0200
TZNAME:CEST
DTSTART:20250330T010000
END:DAYLIGHT
BEGIN:STANDARD
TZOFFSETFROM:+0200
TZOFFSETTO:+0100
TZNAME:CET
DTSTART:20251026T010000
END:STANDARD
BEGIN:DAYLIGHT
TZOFFSETFROM:+0100
TZOFFSETTO:+0200
TZNAME:CEST
DTSTART:20260329T010000
END:DAYLIGHT
BEGIN:STANDARD
TZOFFSETFROM:+0200
TZOFFSETTO:+0100
TZNAME:CET
DTSTART:20261025T010000
END:STANDARD
BEGIN:DAYLIGHT
TZOFFSETFROM:+0100
TZOFFSETTO:+0200
TZNAME:CEST
DTSTART:20270328T010000
END:DAYLIGHT
BEGIN:STANDARD
TZOFFSETFROM:+0200
TZOFFSETTO:+0100
TZNAME:CET
DTSTART:20271031T010000
END:STANDARD
END:VTIMEZONE
BEGIN:VEVENT
DTSTART;TZID=Europe/Berlin:20260425T150000
DTEND;TZID=Europe/Berlin:20260425T170000
DTSTAMP:20260419T170532
CREATED:20260225T193628Z
LAST-MODIFIED:20260414T161712Z
UID:443-1777129200-1777136400@tusbarkochba.de
SUMMARY:TuS Bar Kochba Nbg. – DJK BFC Nürnberg (9er)
DESCRIPTION:Heimspiel Ü32 Saison 25/26
URL:https://tusbarkochba.de/event/tus-bar-kochba-nbg-djk-bfc-nuernberg-9er
LOCATION:Sportanlage Steinplatte\, Bad-Bernecker-Str. 9\, Nürnberg\, Bayern\, 90491\, Germany
CATEGORIES:Spieltermine
END:VEVENT
BEGIN:VEVENT
DTSTART;TZID=Europe/Berlin:20260508T183000
DTEND;TZID=Europe/Berlin:20260508T203000
DTSTAMP:20260419T170532
CREATED:20260225T193759Z
LAST-MODIFIED:20260414T161833Z
UID:452-1778265000-1778272200@tusbarkochba.de
SUMMARY:TSV Südwest Nürnberg – TuS Bar Kochba Nbg. (9er)
DESCRIPTION:Auswärtsspiel Ü32 Saison 25/26
URL:https://tusbarkochba.de/event/tsv-suedwest-nuernberg-tus-bar-kochba-nbg-9er
LOCATION:Sportanlage Nürnberg Jägerstr.\, Jägerstr. 21\, Nürnberg\, Bayern\, Germany
CATEGORIES:Spieltermine
END:VEVENT
BEGIN:VEVENT
DTSTART;TZID=Europe/Berlin:20260516T150000
DTEND;TZID=Europe/Berlin:20260516T170000
DTSTAMP:20260419T170532
CREATED:20260225T193629Z
LAST-MODIFIED:20260411T075231Z
UID:444-1778943600-1778950800@tusbarkochba.de
SUMMARY:TuS Bar Kochba Nbg. – DJK Oberasbach AH
DESCRIPTION:Heimspiel Ü32 Saison 25/26
URL:https://tusbarkochba.de/event/tus-bar-kochba-nbg-djk-oberasbach-ah
CATEGORIES:Spieltermine
END:VEVENT
BEGIN:VEVENT
DTSTART;TZID=Europe/Berlin:20260523T150000
DTEND;TZID=Europe/Berlin:20260523T170000
DTSTAMP:20260419T170532
CREATED:20260225T193629Z
LAST-MODIFIED:20260414T165601Z
UID:445-1779548400-1779555600@tusbarkochba.de
SUMMARY:TuS Bar Kochba Nbg. – SV Großhabersdorf (9er)
DESCRIPTION:Heimspiel Ü32 Saison 25/26
URL:https://tusbarkochba.de/event/tus-bar-kochba-nbg-sv-grosshabersdorf-9er
LOCATION:Sportanlage Steinplatte\, Bad-Bernecker-Str. 9\, Nürnberg\, Bayern\, 90491\, Germany
CATEGORIES:Spieltermine
END:VEVENT
BEGIN:VEVENT
DTSTART;TZID=Europe/Berlin:20260612T190000
DTEND;TZID=Europe/Berlin:20260612T210000
DTSTAMP:20260419T170532
CREATED:20260225T193800Z
LAST-MODIFIED:20260414T162052Z
UID:453-1781290800-1781298000@tusbarkochba.de
SUMMARY:SV Türkspor Reichelsdorf – TuS Bar Kochba Nbg. (9er)
DESCRIPTION:Auswärtsspiel Ü32 Saison 25/26
URL:https://tusbarkochba.de/event/sv-tuerkspor-reichelsdorf-tus-bar-kochba-nbg-9er
LOCATION:Sportanlage Schlössleinsgasse\, Schlößleinsgasse 9\, Nürnberg\, 90473\, Germany
CATEGORIES:Spieltermine
END:VEVENT
BEGIN:VEVENT
DTSTART;TZID=Europe/Berlin:20260620T150000
DTEND;TZID=Europe/Berlin:20260620T170000
DTSTAMP:20260419T170532
CREATED:20260225T193630Z
LAST-MODIFIED:20260414T165537Z
UID:446-1781967600-1781974800@tusbarkochba.de
SUMMARY:TuS Bar Kochba Nbg. – ASV Zirndorf AH
DESCRIPTION:Heimspiel Ü32 Saison 25/26
URL:https://tusbarkochba.de/event/tus-bar-kochba-nbg-asv-zirndorf-ah
LOCATION:Sportanlage Steinplatte\, Bad-Bernecker-Str. 9\, Nürnberg\, Bayern\, 90491\, Germany
CATEGORIES:Spieltermine
END:VEVENT
BEGIN:VEVENT
DTSTART;TZID=Europe/Berlin:20260703T190000
DTEND;TZID=Europe/Berlin:20260703T210000
DTSTAMP:20260419T170532
CREATED:20260225T193801Z
LAST-MODIFIED:20260414T162311Z
UID:454-1783105200-1783112400@tusbarkochba.de
SUMMARY:DJK BFC Nürnberg (9er) – TuS Bar Kochba Nbg. (9er)
DESCRIPTION:Auswärtsspiel Ü32 Saison 25/26
URL:https://tusbarkochba.de/event/djk-bfc-nuernberg-9er-tus-bar-kochba-nbg-9er
LOCATION:Sportanlage Hofer Straße\, Hofer Str. 30\, Nürnberg\, 90411\, Germany
CATEGORIES:Spieltermine
END:VEVENT
BEGIN:VEVENT
DTSTART;TZID=Europe/Berlin:20260711T150000
DTEND;TZID=Europe/Berlin:20260711T170000
DTSTAMP:20260419T170532
CREATED:20260225T193631Z
LAST-MODIFIED:20260414T165519Z
UID:447-1783782000-1783789200@tusbarkochba.de
SUMMARY:TuS Bar Kochba Nbg. – TSV Südwest Nürnberg
DESCRIPTION:Heimspiel Ü32 Saison 25/26
URL:https://tusbarkochba.de/event/tus-bar-kochba-nbg-tsv-suedwest-nuernberg
LOCATION:Sportanlage Steinplatte\, Bad-Bernecker-Str. 9\, Nürnberg\, Bayern\, 90491\, Germany
CATEGORIES:Spieltermine
END:VEVENT
BEGIN:VEVENT
DTSTART;TZID=Europe/Berlin:20260724T183000
DTEND;TZID=Europe/Berlin:20260724T203000
DTSTAMP:20260419T170532
CREATED:20260225T193802Z
LAST-MODIFIED:20260414T162430Z
UID:455-1784917800-1784925000@tusbarkochba.de
SUMMARY:DJK Oberasbach AH – TuS Bar Kochba Nbg. (9er)
DESCRIPTION:Auswärtsspiel Ü32 Saison 25/26
URL:https://tusbarkochba.de/event/djk-oberasbach-ah-tus-bar-kochba-nbg-9er
LOCATION:Hans-Reif-Zentrum\, Jahnstr. 16a\, Oberasbach\, Bayern\, 90522
CATEGORIES:Spieltermine
END:VEVENT
BEGIN:VEVENT
DTSTART;TZID=Europe/Berlin:20260925T183000
DTEND;TZID=Europe/Berlin:20260925T203000
DTSTAMP:20260419T170532
CREATED:20260225T193809Z
LAST-MODIFIED:20260414T162507Z
UID:456-1790361000-1790368200@tusbarkochba.de
SUMMARY:SV Großhabersdorf (9er) – TuS Bar Kochba Nbg. (9er)
DESCRIPTION:Auswärtsspiel Ü32 Saison 25/26
URL:https://tusbarkochba.de/event/sv-grosshabersdorf-9er-tus-bar-kochba-nbg-9er
LOCATION:Sportanlage Großhabersdorf\, Fernabrünster Str. 10\, Großhabersdorf\, Bayern\, 90613\, Deutschland
CATEGORIES:Spieltermine
END:VEVENT
BEGIN:VEVENT
DTSTART;TZID=Europe/Berlin:20261010T150000
DTEND;TZID=Europe/Berlin:20261010T170000
DTSTAMP:20260419T170532
CREATED:20260225T193637Z
LAST-MODIFIED:20260414T165651Z
UID:448-1791644400-1791651600@tusbarkochba.de
SUMMARY:TuS Bar Kochba Nbg. – SV Türkspor Reichelsdorf
DESCRIPTION:Heimspiel Ü32 Saison 25/26
URL:https://tusbarkochba.de/event/tus-bar-kochba-nbg-sv-tuerkspor-reichelsdorf
LOCATION:Sportanlage Steinplatte\, Bad-Bernecker-Str. 9\, Nürnberg\, Bayern\, 90491\, Germany
CATEGORIES:Spieltermine
END:VEVENT
BEGIN:VEVENT
DTSTART;TZID=Europe/Berlin:20261016T190000
DTEND;TZID=Europe/Berlin:20261016T210000
DTSTAMP:20260419T170532
CREATED:20260225T193810Z
LAST-MODIFIED:20260414T165335Z
UID:457-1792177200-1792184400@tusbarkochba.de
SUMMARY:ASV Zirndorf AH – TuS Bar Kochba Nbg. (9er)
DESCRIPTION:Auswärtsspiel Ü32 Saison 25/26
URL:https://tusbarkochba.de/event/asv-zirndorf-ah-tus-bar-kochba-nbg-9er
LOCATION:Sportanlage Zirndorf Schwabacher Str. 51\, Schwabacher Str. 51\, Zirndorf\, 90513\, Germany
CATEGORIES:Spieltermine
END:VEVENT
BEGIN:VEVENT
DTSTART;TZID=Europe/Berlin:20261030T000000
DTEND;TZID=Europe/Berlin:20261102T235959
DTSTAMP:20260419T170532
CREATED:20260131T161333Z
LAST-MODIFIED:20260411T074911Z
UID:436-1793318400-1793663999@tusbarkochba.de
SUMMARY:Auslandsfahrt nach Tirana
DESCRIPTION:Auf geht´s nach Albanien! \nHier der Link zur Teilnahme: \nhttps://nuudel.digitalcourage.de/CJjZTSAu5a6pkr78 \n 
URL:https://tusbarkochba.de/event/auslandsfahrt-nach-tirana
LOCATION:Tirana\, Albania
CATEGORIES:Reisen
END:VEVENT
END:VCALENDAR